Workbook

Sheet 공급받는자 보관용
A1: 거 래 명 세 서
A2: (공급받는자 보관용)
A3: 공급받는자 | B3: 상호 | E3: 공급자 | F3: 등록번호
B4: 담당자 | F4: 상호
B5: 연락처 | F5: 대표자
B6: 거래일자 | C6: 2026- - | F6: 주소
B7: 합계금액 | C7: =I24 | F7: 업태·종목
A8: 월 | B8: 일 | C8: 품목 | D8: 규격 | E8: 수량 | F8: 단가 | G8: 공급가액 | H8: 세액 | I8: 비고
G9: =IF(AND(E9<>"",F9<>""),E9*F9,"") | H9: =IF(G9="","",ROUND(G9*0.1,0))
G10: =IF(AND(E10<>"",F10<>""),E10*F10,"") | H10: =IF(G10="","",ROUND(G10*0.1,0))
G11: =IF(AND(E11<>"",F11<>""),E11*F11,"") | H11: =IF(G11="","",ROUND(G11*0.1,0))
G12: =IF(AND(E12<>"",F12<>""),E12*F12,"") | H12: =IF(G12="","",ROUND(G12*0.1,0))
G13: =IF(AND(E13<>"",F13<>""),E13*F13,"") | H13: =IF(G13="","",ROUND(G13*0.1,0))
G14: =IF(AND(E14<>"",F14<>""),E14*F14,"") | H14: =IF(G14="","",ROUND(G14*0.1,0))
G15: =IF(AND(E15<>"",F15<>""),E15*F15,"") | H15: =IF(G15="","",ROUND(G15*0.1,0))
G16: =IF(AND(E16<>"",F16<>""),E16*F16,"") | H16: =IF(G16="","",ROUND(G16*0.1,0))
G17: =IF(AND(E17<>"",F17<>""),E17*F17,"") | H17: =IF(G17="","",ROUND(G17*0.1,0))
G18: =IF(AND(E18<>"",F18<>""),E18*F18,"") | H18: =IF(G18="","",ROUND(G18*0.1,0))
G19: =IF(AND(E19<>"",F19<>""),E19*F19,"") | H19: =IF(G19="","",ROUND(G19*0.1,0))
G20: =IF(AND(E20<>"",F20<>""),E20*F20,"") | H20: =IF(G20="","",ROUND(G20*0.1,0))
... G23: =IF(AND(E23<>"",F23<>""),E23*F23,"") | H23: =IF(G23="","",ROUND(G23*0.1,0))
A24: 합계 | E24: =SUM(E9:E23) | G24: =SUM(G9:G23) | H24: =SUM(H9:H23) | I24: =G24+H24
A25: ※ 공급가액 = 수량 × 단가 · 세액 = 공급가액의 10% (면세 품목은 세액 칸을 지우세요) · 합계 = 공급가액 + 세액
A26: 인수자 | F26: (서명) | G26: 인계자
A28: 양식: cybergeni.com/form/statement — 매주 같은 거래처에 쓰신다면, 출고하면 명세서가 같이 나가는 거래처 비서(cybergeni.com)

Sheet 공급자 보관용
A1: 거 래 명 세 서
A2: (공급자 보관용)
A3: 공급받는자 | B3: 상호 | C3: ='공급받는자 보관용'!C3 | E3: 공급자 | F3: 등록번호 | G3: ='공급받는자 보관용'!G3
B4: 담당자 | C4: ='공급받는자 보관용'!C4 | F4: 상호 | G4: ='공급받는자 보관용'!G4
B5: 연락처 | C5: ='공급받는자 보관용'!C5 | F5: 대표자 | G5: ='공급받는자 보관용'!G5
B6: 거래일자 | C6: ='공급받는자 보관용'!C6 | F6: 주소 | G6: ='공급받는자 보관용'!G6
B7: 합계금액 | C7: =I24 | F7: 업태·종목 | G7: ='공급받는자 보관용'!G7
A8: 월 | B8: 일 | C8: 품목 | D8: 규격 | E8: 수량 | F8: 단가 | G8: 공급가액 | H8: 세액 | I8: 비고
A9: =IF('공급받는자 보관용'!A9="","",'공급받는자 보관용'!A9) | B9: =IF('공급받는자 보관용'!B9="","",'공급받는자 보관용'!B9) | C9: =IF('공급받는자 보관용'!C9="","",'공급받는자 보관용'!C9) | D9: =IF('공급받는자 보관용'!D9="","",'공급받는자 보관용'!D9) | E9: =IF('공급받는자 보관용'!E9="","",'공급받는자 보관용'!E9) | F9: =IF('공급받는자 보관용'!F9="","",'공급받는자 보관용'!F9) | G9: =IF(AND(E9<>"",F9<>""),E9*F9,"") | H9: =IF(G9="","",ROUND(G9*0.1,0)) | I9: =IF('공급받는자 보관용'!I9="","",'공급받는자 보관용'!I9)
A10: =IF('공급받는자 보관용'!A10="","",'공급받는자 보관용'!A10) | B10: =IF('공급받는자 보관용'!B10="","",'공급받는자 보관용'!B10) | C10: =IF('공급받는자 보관용'!C10="","",'공급받는자 보관용'!C10) | D10: =IF('공급받는자 보관용'!D10="","",'공급받는자 보관용'!D10) | E10: =IF('공급받는자 보관용'!E10="","",'공급받는자 보관용'!E10) | F10: =IF('공급받는자 보관용'!F10="","",'공급받는자 보관용'!F10) | G10: =IF(AND(E10<>"",F10<>""),E10*F10,"") | H10: =IF(G10="","",ROUND(G10*0.1,0)) | I10: =IF('공급받는자 보관용'!I10="","",'공급받는자 보관용'!I10)
A11: =IF('공급받는자 보관용'!A11="","",'공급받는자 보관용'!A11) | B11: =IF('공급받는자 보관용'!B11="","",'공급받는자 보관용'!B11) | C11: =IF('공급받는자 보관용'!C11="","",'공급받는자 보관용'!C11) | D11: =IF('공급받는자 보관용'!D11="","",'공급받는자 보관용'!D11) | E11: =IF('공급받는자 보관용'!E11="","",'공급받는자 보관용'!E11) | F11: =IF('공급받는자 보관용'!F11="","",'공급받는자 보관용'!F11) | G11: =IF(AND(E11<>"",F11<>""),E11*F11,"") | H11: =IF(G11="","",ROUND(G11*0.1,0)) | I11: =IF('공급받는자 보관용'!I11="","",'공급받는자 보관용'!I11)
A12: =IF('공급받는자 보관용'!A12="","",'공급받는자 보관용'!A12) | B12: =IF('공급받는자 보관용'!B12="","",'공급받는자 보관용'!B12) | C12: =IF('공급받는자 보관용'!C12="","",'공급받는자 보관용'!C12) | D12: =IF('공급받는자 보관용'!D12="","",'공급받는자 보관용'!D12) | E12: =IF('공급받는자 보관용'!E12="","",'공급받는자 보관용'!E12) | F12: =IF('공급받는자 보관용'!F12="","",'공급받는자 보관용'!F12) | G12: =IF(AND(E12<>"",F12<>""),E12*F12,"") | H12: =IF(G12="","",ROUND(G12*0.1,0)) | I12: =IF('공급받는자 보관용'!I12="","",'공급받는자 보관용'!I12)
A13: =IF('공급받는자 보관용'!A13="","",'공급받는자 보관용'!A13) | B13: =IF('공급받는자 보관용'!B13="","",'공급받는자 보관용'!B13) | C13: =IF('공급받는자 보관용'!C13="","",'공급받는자 보관용'!C13) | D13: =IF('공급받는자 보관용'!D13="","",'공급받는자 보관용'!D13) | E13: =IF('공급받는자 보관용'!E13="","",'공급받는자 보관용'!E13) | F13: =IF('공급받는자 보관용'!F13="","",'공급받는자 보관용'!F13) | G13: =IF(AND(E13<>"",F13<>""),E13*F13,"") | H13: =IF(G13="","",ROUND(G13*0.1,0)) | I13: =IF('공급받는자 보관용'!I13="","",'공급받는자 보관용'!I13)
A14: =IF('공급받는자 보관용'!A14="","",'공급받는자 보관용'!A14) | B14: =IF('공급받는자 보관용'!B14="","",'공급받는자 보관용'!B14) | C14: =IF('공급받는자 보관용'!C14="","",'공급받는자 보관용'!C14) | D14: =IF('공급받는자 보관용'!D14="","",'공급받는자 보관용'!D14) | E14: =IF('공급받는자 보관용'!E14="","",'공급받는자 보관용'!E14) | F14: =IF('공급받는자 보관용'!F14="","",'공급받는자 보관용'!F14) | G14: =IF(AND(E14<>"",F14<>""),E14*F14,"") | H14: =IF(G14="","",ROUND(G14*0.1,0)) | I14: =IF('공급받는자 보관용'!I14="","",'공급받는자 보관용'!I14)
A15: =IF('공급받는자 보관용'!A15="","",'공급받는자 보관용'!A15) | B15: =IF('공급받는자 보관용'!B15="","",'공급받는자 보관용'!B15) | C15: =IF('공급받는자 보관용'!C15="","",'공급받는자 보관용'!C15) | D15: =IF('공급받는자 보관용'!D15="","",'공급받는자 보관용'!D15) | E15: =IF('공급받는자 보관용'!E15="","",'공급받는자 보관용'!E15) | F15: =IF('공급받는자 보관용'!F15="","",'공급받는자 보관용'!F15) | G15: =IF(AND(E15<>"",F15<>""),E15*F15,"") | H15: =IF(G15="","",ROUND(G15*0.1,0)) | I15: =IF('공급받는자 보관용'!I15="","",'공급받는자 보관용'!I15)
A16: =IF('공급받는자 보관용'!A16="","",'공급받는자 보관용'!A16) | B16: =IF('공급받는자 보관용'!B16="","",'공급받는자 보관용'!B16) | C16: =IF('공급받는자 보관용'!C16="","",'공급받는자 보관용'!C16) | D16: =IF('공급받는자 보관용'!D16="","",'공급받는자 보관용'!D16) | E16: =IF('공급받는자 보관용'!E16="","",'공급받는자 보관용'!E16) | F16: =IF('공급받는자 보관용'!F16="","",'공급받는자 보관용'!F16) | G16: =IF(AND(E16<>"",F16<>""),E16*F16,"") | H16: =IF(G16="","",ROUND(G16*0.1,0)) | I16: =IF('공급받는자 보관용'!I16="","",'공급받는자 보관용'!I16)
A17: =IF('공급받는자 보관용'!A17="","",'공급받는자 보관용'!A17) | B17: =IF('공급받는자 보관용'!B17="","",'공급받는자 보관용'!B17) | C17: =IF('공급받는자 보관용'!C17="","",'공급받는자 보관용'!C17) | D17: =IF('공급받는자 보관용'!D17="","",'공급받는자 보관용'!D17) | E17: =IF('공급받는자 보관용'!E17="","",'공급받는자 보관용'!E17) | F17: =IF('공급받는자 보관용'!F17="","",'공급받는자 보관용'!F17) | G17: =IF(AND(E17<>"",F17<>""),E17*F17,"") | H17: =IF(G17="","",ROUND(G17*0.1,0)) | I17: =IF('공급받는자 보관용'!I17="","",'공급받는자 보관용'!I17)
A18: =IF('공급받는자 보관용'!A18="","",'공급받는자 보관용'!A18) | B18: =IF('공급받는자 보관용'!B18="","",'공급받는자 보관용'!B18) | C18: =IF('공급받는자 보관용'!C18="","",'공급받는자 보관용'!C18) | D18: =IF('공급받는자 보관용'!D18="","",'공급받는자 보관용'!D18) | E18: =IF('공급받는자 보관용'!E18="","",'공급받는자 보관용'!E18) | F18: =IF('공급받는자 보관용'!F18="","",'공급받는자 보관용'!F18) | G18: =IF(AND(E18<>"",F18<>""),E18*F18,"") | H18: =IF(G18="","",ROUND(G18*0.1,0)) | I18: =IF('공급받는자 보관용'!I18="","",'공급받는자 보관용'!I18)
A19: =IF('공급받는자 보관용'!A19="","",'공급받는자 보관용'!A19) | B19: =IF('공급받는자 보관용'!B19="","",'공급받는자 보관용'!B19) | C19: =IF('공급받는자 보관용'!C19="","",'공급받는자 보관용'!C19) | D19: =IF('공급받는자 보관용'!D19="","",'공급받는자 보관용'!D19) | E19: =IF('공급받는자 보관용'!E19="","",'공급받는자 보관용'!E19) | F19: =IF('공급받는자 보관용'!F19="","",'공급받는자 보관용'!F19) | G19: =IF(AND(E19<>"",F19<>""),E19*F19,"") | H19: =IF(G19="","",ROUND(G19*0.1,0)) | I19: =IF('공급받는자 보관용'!I19="","",'공급받는자 보관용'!I19)
A20: =IF('공급받는자 보관용'!A20="","",'공급받는자 보관용'!A20) | B20: =IF('공급받는자 보관용'!B20="","",'공급받는자 보관용'!B20) | C20: =IF('공급받는자 보관용'!C20="","",'공급받는자 보관용'!C20) | D20: =IF('공급받는자 보관용'!D20="","",'공급받는자 보관용'!D20) | E20: =IF('공급받는자 보관용'!E20="","",'공급받는자 보관용'!E20) | F20: =IF('공급받는자 보관용'!F20="","",'공급받는자 보관용'!F20) | G20: =IF(AND(E20<>"",F20<>""),E20*F20,"") | H20: =IF(G20="","",ROUND(G20*0.1,0)) | I20: =IF('공급받는자 보관용'!I20="","",'공급받는자 보관용'!I20)
... A23: =IF('공급받는자 보관용'!A23="","",'공급받는자 보관용'!A23) | B23: =IF('공급받는자 보관용'!B23="","",'공급받는자 보관용'!B23) | C23: =IF('공급받는자 보관용'!C23="","",'공급받는자 보관용'!C23) | D23: =IF('공급받는자 보관용'!D23="","",'공급받는자 보관용'!D23) | E23: =IF('공급받는자 보관용'!E23="","",'공급받는자 보관용'!E23) | F23: =IF('공급받는자 보관용'!F23="","",'공급받는자 보관용'!F23) | G23: =IF(AND(E23<>"",F23<>""),E23*F23,"") | H23: =IF(G23="","",ROUND(G23*0.1,0)) | I23: =IF('공급받는자 보관용'!I23="","",'공급받는자 보관용'!I23)
A24: 합계 | E24: =SUM(E9:E23) | G24: =SUM(G9:G23) | H24: =SUM(H9:H23) | I24: =G24+H24
A25: ※ 공급가액 = 수량 × 단가 · 세액 = 공급가액의 10% (면세 품목은 세액 칸을 지우세요) · 합계 = 공급가액 + 세액
A26: 인수자 | F26: (서명) | G26: 인계자
A28: 양식: cybergeni.com/form/statement — 매주 같은 거래처에 쓰신다면, 출고하면 명세서가 같이 나가는 거래처 비서(cybergeni.com)
